BEGIN:VCALENDAR
VERSION:2.0
PRODID:-//hacksw/handcal//NONSGML v1.0//EN
BEGIN:VEVENT
SUMMARY:RANDONNEE DE LA RISLE St PHILBERT
UID:ed0b83ed-6917-456b-b1b1-7e24ce773246
DTSTART:20260418T220000Z
DTEND:20260419T220000Z
LOCATION:Localisation 208 Rue Roger Pelletier 27290 SAINT-PHILBERT-SUR-RISLE
CATEGORIES:Sportif
STATUS:
DESCRIPTION:<p>Accueil : Salle d’Activite a SAINT PHILBERT SUR
 RISLE<br class="manualbr" />
 Horaire : 7h30 a 9h30 - Cloture :
 13h<br class="manualbr" />
 Route :35- 50 - 70 km<br class="manualbr"
 />
 VTT : 35 km</p>
 
 <p>Tarif : FFC 4 euros – gratuit moins de 18
 ans</p>
 
 <p><strong>SAINT PHILBERT ATHLETIC CLUB (27 - 2940)
 </strong><br class="manualbr" />
 Contacts : PC.BARBEY 02 32 42 49 77-
 06 79 76 16 19</p>
 
 <p>josianebarbey27@gmail.com</p>
 
 <p>R.LAMY 06 20
 42 93 49 lamyrobert1951@gmail.com<br class="manualbr" />
  </p>
URL;VALUE=URI:https://www.ccr-bourgtheroulde.com/evenements/2026/04/19/randonnee-de-la-risle-st-philbert-2433313
END:VEVENT
END:VCALENDAR
